BEGIN:VCALENDAR
VERSION:2.0
PRODID:-//asosavin.org - ECPv6.10.0//NONSGML v1.0//EN
CALSCALE:GREGORIAN
METHOD:PUBLISH
X-ORIGINAL-URL:https://asosavin.org
X-WR-CALDESC:Eventos para asosavin.org
REFRESH-INTERVAL;VALUE=DURATION:PT1H
X-Robots-Tag:noindex
X-PUBLISHED-TTL:PT1H
BEGIN:VTIMEZONE
TZID:UTC
BEGIN:STANDARD
TZOFFSETFROM:+0000
TZOFFSETTO:+0000
TZNAME:UTC
DTSTART:20240101T000000
END:STANDARD
END:VTIMEZONE
BEGIN:VEVENT
DTSTART;TZID=UTC:20241007T080000
DTEND;TZID=UTC:20241007T170000
DTSTAMP:20260419T162122
CREATED:20241007T194745Z
LAST-MODIFIED:20241007T204721Z
UID:291-1728288000-1728320400@asosavin.org
SUMMARY:Evento 3
DESCRIPTION:
URL:https://asosavin.org/event/evento-3/
ATTACH;FMTTYPE=image/jpeg:https://asosavin.org/wp-content/uploads/2024/10/Nino-con-gafas.jpg
END:VEVENT
BEGIN:VEVENT
DTSTART;TZID=UTC:20241007T080000
DTEND;TZID=UTC:20241007T170000
DTSTAMP:20260419T162122
CREATED:20241007T194438Z
LAST-MODIFIED:20241007T194439Z
UID:289-1728288000-1728320400@asosavin.org
SUMMARY:Evento 2
DESCRIPTION:
URL:https://asosavin.org/event/evento-2/
END:VEVENT
BEGIN:VEVENT
DTSTART;TZID=UTC:20241007T080000
DTEND;TZID=UTC:20241007T170000
DTSTAMP:20260419T162122
CREATED:20241007T193242Z
LAST-MODIFIED:20241007T193307Z
UID:274-1728288000-1728320400@asosavin.org
SUMMARY:Agenda de investigación
DESCRIPTION:
URL:https://asosavin.org/event/agenda-de-investigacion/
LOCATION:Virtual
END:VEVENT
END:VCALENDAR